BEGIN:VCALENDAR
VERSION:2.0
PRODID:-//Department Of Education//72d8f741-b349-4a55-a74d-3c4ed815403c
BEGIN:VTIMEZONE
TZID:Australia/Sydney
TZURL:http://tzurl.org/zoneinfo-outlook/Australia/Sydney
X-LIC-LOCATION:Australia/Sydney
BEGIN:STANDARD
TZOFFSETFROM:+1100
TZOFFSETTO:+1000
TZNAME:AEST
DTSTART:19700405T030000
RRULE:FREQ=YEARLY;BYMONTH=4;BYDAY=1SU
END:STANDARD
BEGIN:DAYLIGHT
TZOFFSETFROM:+1000
TZOFFSETTO:+1100
TZNAME:AEDT
DTSTART:19701004T020000
RRULE:FREQ=YEARLY;BYMONTH=10;BYDAY=1SU
END:DAYLIGHT
END:VTIMEZONE
CALSCALE:GREGORIAN
X-WR-TIMEZONE:Australia/Sydney
BEGIN:VEVENT
DTSTART;TZID=Australia/Sydney:20200302T193000
DTEND;TZID=Australia/Sydney:20200302T213000
DTSTAMP:20200302T000000Z
UID:bc55cf74-cc38-4680-8e91-3aa87055a01f
LOCATION:Tacking Point Public School
SUMMARY;LANGUAGE=en-us:P and C meeting AGM
SEQUENCE:0
DESCRIPTION:Please join us for the AGM.
END:VEVENT
TRANSP:TRANSPARENT
END:VCALENDAR
